BEGIN:VCALENDAR
VERSION:2.0
PRODID:-//Capital Region Minority Supplier Development Council | CRMSDC - ECPv6.6.4.2//NONSGML v1.0//EN
CALSCALE:GREGORIAN
METHOD:PUBLISH
X-WR-CALNAME:Capital Region Minority Supplier Development Council | CRMSDC
X-ORIGINAL-URL:https://crmsdc.org
X-WR-CALDESC:Events for Capital Region Minority Supplier Development Council | CRMSDC
REFRESH-INTERVAL;VALUE=DURATION:PT1H
X-Robots-Tag:noindex
X-PUBLISHED-TTL:PT1H
BEGIN:VTIMEZONE
TZID:America/New_York
BEGIN:DAYLIGHT
TZOFFSETFROM:-0500
TZOFFSETTO:-0400
TZNAME:EDT
DTSTART:20220313T070000
END:DAYLIGHT
BEGIN:STANDARD
TZOFFSETFROM:-0400
TZOFFSETTO:-0500
TZNAME:EST
DTSTART:20221106T060000
END:STANDARD
END:VTIMEZONE
BEGIN:VEVENT
DTSTART;VALUE=DATE:20221222
DTEND;VALUE=DATE:20221231
DTSTAMP:20260423T181032
CREATED:20221213T011225Z
LAST-MODIFIED:20221213T011225Z
UID:1599-1671667200-1672444799@crmsdc.org
SUMMARY:Christmas Holiday Week – CRMSDC Office Closed
DESCRIPTION:
URL:https://crmsdc.org/event/christmas-holiday-week-crmsdc-office-closed/
END:VEVENT
BEGIN:VEVENT
DTSTART;TZID=America/New_York:20221208T113000
DTEND;TZID=America/New_York:20221208T140000
DTSTAMP:20260423T181032
CREATED:20220217T002150Z
LAST-MODIFIED:20221213T011150Z
UID:1497-1670499000-1670508000@crmsdc.org
SUMMARY:CRMSDC Annual Business Meeting 2022
DESCRIPTION:
URL:https://crmsdc.org/event/crmsdc-annual-meeting-2022/
CATEGORIES:Signature Event
END:VEVENT
BEGIN:VEVENT
DTSTART;TZID=America/New_York:20221202T080000
DTEND;TZID=America/New_York:20221202T090000
DTSTAMP:20260423T181032
CREATED:20220316T230204Z
LAST-MODIFIED:20220316T230204Z
UID:1598-1669968000-1669971600@crmsdc.org
SUMMARY:Elevate MBE CEO Peer Group
DESCRIPTION:Mission: Increase MBE-to-MBE Collaboration\nThe Elevate MBE CEO Peer Group on Microsoft Teams gives MBEs a place to network\, brainstorm\, and partner with peers. Join the group to schedule time on the calendar to work on your business and find/give help. \nEvery First Friday! \nEmail latoya.moore@crmsdc.org for details. \nSign Up to Receive Updates
URL:https://crmsdc.org/event/elevate-mbe-ceo-peer-group-10/
LOCATION:Virtual
CATEGORIES:Meeting
END:VEVENT
BEGIN:VEVENT
DTSTART;TZID=America/New_York:20221201T093000
DTEND;TZID=America/New_York:20221201T110000
DTSTAMP:20260423T181032
CREATED:20220216T210537Z
LAST-MODIFIED:20220216T210548Z
UID:1474-1669887000-1669892400@crmsdc.org
SUMMARY:NMSDC Pre-Certification Briefing - December
DESCRIPTION:Learn about the benefits and requirements of National MBE certification through the National Minority Supplier Development Council.\nNote: Event has changed to an interactive video conference until further notice due to coronavirus concerns. Registrants will receive a follow-up email with the link to the Zoom video conference. \nRegister Here
URL:https://crmsdc.org/event/nmsdc-pre-certification-briefing-december/
LOCATION:Virtual
CATEGORIES:Meeting
END:VEVENT
BEGIN:VEVENT
DTSTART;VALUE=DATE:20221124
DTEND;VALUE=DATE:20221126
DTSTAMP:20260423T181032
CREATED:20220316T230600Z
LAST-MODIFIED:20220316T230600Z
UID:1600-1669248000-1669420799@crmsdc.org
SUMMARY:Thanksgiving Holiday – CRMSDC Office Closed
DESCRIPTION:
URL:https://crmsdc.org/event/thanksgiving-holiday-crmsdc-office-closed/
END:VEVENT
BEGIN:VEVENT
DTSTART;VALUE=DATE:20221111
DTEND;VALUE=DATE:20221112
DTSTAMP:20260423T181032
CREATED:20220316T230856Z
LAST-MODIFIED:20220316T230856Z
UID:1601-1668124800-1668211199@crmsdc.org
SUMMARY:Veterans Day – CRMSDC Office Closed
DESCRIPTION:
URL:https://crmsdc.org/event/veterans-day-crmsdc-office-closed/
END:VEVENT
BEGIN:VEVENT
DTSTART;TZID=America/New_York:20221104T080000
DTEND;TZID=America/New_York:20221104T090000
DTSTAMP:20260423T181032
CREATED:20220316T230034Z
LAST-MODIFIED:20220316T230034Z
UID:1597-1667548800-1667552400@crmsdc.org
SUMMARY:Elevate MBE CEO Peer Group
DESCRIPTION:Mission: Increase MBE-to-MBE Collaboration\nThe Elevate MBE CEO Peer Group on Microsoft Teams gives MBEs a place to network\, brainstorm\, and partner with peers. Join the group to schedule time on the calendar to work on your business and find/give help. \nEvery First Friday! \nEmail latoya.moore@crmsdc.org for details. \nSign Up to Receive Updates
URL:https://crmsdc.org/event/elevate-mbe-ceo-peer-group-9/
LOCATION:Virtual
CATEGORIES:Meeting
END:VEVENT
BEGIN:VEVENT
DTSTART;TZID=America/New_York:20221103T093000
DTEND;TZID=America/New_York:20221103T110000
DTSTAMP:20260423T181032
CREATED:20220216T210413Z
LAST-MODIFIED:20220216T210413Z
UID:1473-1667467800-1667473200@crmsdc.org
SUMMARY:NMSDC Pre-Certification Briefing - November
DESCRIPTION:Learn about the benefits and requirements of National MBE certification through the National Minority Supplier Development Council.\nNote: Event has changed to an interactive video conference until further notice due to coronavirus concerns. Registrants will receive a follow-up email with the link to the Zoom video conference. \nRegister Here
URL:https://crmsdc.org/event/nmsdc-pre-certification-briefing-november/
LOCATION:Virtual
CATEGORIES:Meeting
END:VEVENT
BEGIN:VEVENT
DTSTART;TZID=America/New_York:20221012T183000
DTEND;TZID=America/New_York:20221012T223000
DTSTAMP:20260423T181032
CREATED:20220711T162955Z
LAST-MODIFIED:20221111T154210Z
UID:1760-1665599400-1665613800@crmsdc.org
SUMMARY:CRMSDC @ 50: Leaders & Legends
DESCRIPTION:Join Us…\nCRMSDC @ 50 Leaders & Legends Celebration\nFeaturing MBE Hall of Fame\nLocation:\nWashington\, DC \nThe Capital Region Minority Supplier Development Council is celebrating a significant milestone this year.  We are in our 50th year of existence – it is our golden anniversary! \nMuch in our world has changed\, but the MISSION of CRMSDC has endured! \nOur MISSION is to assist our corporate members in improving the diversification and innovation of their supply chains by connecting them to competitively viable\, certified minority business enterprises.  Fifty years later\, our mission is battled tested\, and it continues to endure. \nThe Leaders & Legends Hall of Fame is a lifetime achievement award celebrating iconic individuals for their indelible imprint on minority businesses. These individuals have significantly impacted the region’s economy or\, through public policy\, transformed the landscape for minority businesses. \nIn addition\, we will announce the Corporation of the Year and recognize our Supplier of the Year winners. \n  \n\n\n 
URL:https://crmsdc.org/event/crmsdc-50-leaders-legends-hall-of-fame-awards/
LOCATION:National Museum of African American History and Culture\, 1400 Constitution Ave NW\, Washington\, DC\, 20560
CATEGORIES:50th Anniversary,Signature Event
ATTACH;FMTTYPE=image/jpeg:https://crmsdc.org/wp-content/uploads/2022/07/50s.jpg
END:VEVENT
BEGIN:VEVENT
DTSTART;TZID=America/New_York:20221007T080000
DTEND;TZID=America/New_York:20221007T090000
DTSTAMP:20260423T181032
CREATED:20220316T225903Z
LAST-MODIFIED:20220316T225903Z
UID:1595-1665129600-1665133200@crmsdc.org
SUMMARY:Elevate MBE CEO Peer Group
DESCRIPTION:Mission: Increase MBE-to-MBE Collaboration\nThe Elevate MBE CEO Peer Group on Microsoft Teams gives MBEs a place to network\, brainstorm\, and partner with peers. Join the group to schedule time on the calendar to work on your business and find/give help. \nEvery First Friday! \nEmail latoya.moore@crmsdc.org for details. \nSign Up to Receive Updates
URL:https://crmsdc.org/event/elevate-mbe-ceo-peer-group-8/
LOCATION:Virtual
CATEGORIES:Meeting
END:VEVENT
BEGIN:VEVENT
DTSTART;TZID=America/New_York:20221006T093000
DTEND;TZID=America/New_York:20221006T110000
DTSTAMP:20260423T181032
CREATED:20220216T210239Z
LAST-MODIFIED:20220216T210239Z
UID:1472-1665048600-1665054000@crmsdc.org
SUMMARY:NMSDC Pre-Certification Briefing - October
DESCRIPTION:Learn about the benefits and requirements of National MBE certification through the National Minority Supplier Development Council.\nNote: Event has changed to an interactive video conference until further notice due to coronavirus concerns. Registrants will receive a follow-up email with the link to the Zoom video conference. \nRegister Here
URL:https://crmsdc.org/event/nmsdc-pre-certification-briefing-october/
LOCATION:Virtual
CATEGORIES:Meeting
END:VEVENT
BEGIN:VEVENT
DTSTART;TZID=America/New_York:20220913T073000
DTEND;TZID=America/New_York:20220913T163000
DTSTAMP:20260423T181032
CREATED:20220217T001037Z
LAST-MODIFIED:20220818T142312Z
UID:1492-1663054200-1663086600@crmsdc.org
SUMMARY:CRMSDC's Annual Golf Classic 2022
DESCRIPTION:
URL:https://crmsdc.org/event/crmsdcs-annual-golf-classic-2022/
LOCATION:The Country Club at Woodmore\, 12320 Pleasant Prospect\, Mitchellville\, MD\, 20721\, United States
CATEGORIES:Signature Event
ATTACH;FMTTYPE=image/jpeg:https://crmsdc.org/wp-content/uploads/2022/02/Golf-Outing-2022-web.jpg
END:VEVENT
BEGIN:VEVENT
DTSTART;VALUE=DATE:20220905
DTEND;VALUE=DATE:20220906
DTSTAMP:20260423T181032
CREATED:20220316T231207Z
LAST-MODIFIED:20220316T231207Z
UID:1602-1662336000-1662422399@crmsdc.org
SUMMARY:Labor Day Observed – CRMSDC Office Closed
DESCRIPTION:
URL:https://crmsdc.org/event/labor-day-observed-crmsdc-office-closed/
END:VEVENT
BEGIN:VEVENT
DTSTART;TZID=America/New_York:20220902T080000
DTEND;TZID=America/New_York:20220902T090000
DTSTAMP:20260423T181032
CREATED:20220316T225703Z
LAST-MODIFIED:20220316T225739Z
UID:1593-1662105600-1662109200@crmsdc.org
SUMMARY:Elevate MBE CEO Peer Group
DESCRIPTION:Mission: Increase MBE-to-MBE Collaboration\nThe Elevate MBE CEO Peer Group on Microsoft Teams gives MBEs a place to network\, brainstorm\, and partner with peers. Join the group to schedule time on the calendar to work on your business and find/give help. \nEvery First Friday! \nEmail latoya.moore@crmsdc.org for details. \nSign Up to Receive Updates
URL:https://crmsdc.org/event/elevate-mbe-ceo-peer-group-7/
LOCATION:Virtual
CATEGORIES:Meeting
END:VEVENT
BEGIN:VEVENT
DTSTART;TZID=America/New_York:20220901T093000
DTEND;TZID=America/New_York:20220901T110000
DTSTAMP:20260423T181032
CREATED:20220216T210034Z
LAST-MODIFIED:20220216T210034Z
UID:1471-1662024600-1662030000@crmsdc.org
SUMMARY:NMSDC Pre-Certification Briefing - September
DESCRIPTION:Learn about the benefits and requirements of National MBE certification through the National Minority Supplier Development Council.\nNote: Event has changed to an interactive video conference until further notice due to coronavirus concerns. Registrants will receive a follow-up email with the link to the Zoom video conference. \nRegister Here
URL:https://crmsdc.org/event/nmsdc-pre-certification-briefing-september/
LOCATION:Virtual
CATEGORIES:Meeting
END:VEVENT
BEGIN:VEVENT
DTSTART;TZID=America/New_York:20220805T080000
DTEND;TZID=America/New_York:20220805T090000
DTSTAMP:20260423T181032
CREATED:20220316T225521Z
LAST-MODIFIED:20220316T225521Z
UID:1591-1659686400-1659690000@crmsdc.org
SUMMARY:Elevate MBE CEO Peer Group
DESCRIPTION:Mission: Increase MBE-to-MBE Collaboration\nThe Elevate MBE CEO Peer Group on Microsoft Teams gives MBEs a place to network\, brainstorm\, and partner with peers. Join the group to schedule time on the calendar to work on your business and find/give help. \nEvery First Friday! \nEmail latoya.moore@crmsdc.org for details. \nSign Up to Receive Updates
URL:https://crmsdc.org/event/elevate-mbe-ceo-peer-group-6/
LOCATION:Virtual
CATEGORIES:Meeting
END:VEVENT
BEGIN:VEVENT
DTSTART;TZID=America/New_York:20220804T093000
DTEND;TZID=America/New_York:20220804T110000
DTSTAMP:20260423T181032
CREATED:20220216T205839Z
LAST-MODIFIED:20220216T205839Z
UID:1470-1659605400-1659610800@crmsdc.org
SUMMARY:NMSDC Pre-Certification Briefing - August
DESCRIPTION:Learn about the benefits and requirements of National MBE certification through the National Minority Supplier Development Council.\nNote: Event has changed to an interactive video conference until further notice due to coronavirus concerns. Registrants will receive a follow-up email with the link to the Zoom video conference. \nRegister Here
URL:https://crmsdc.org/event/nmsdc-pre-certification-briefing-august/
LOCATION:Virtual
CATEGORIES:Meeting
END:VEVENT
BEGIN:VEVENT
DTSTART;TZID=America/New_York:20220707T093000
DTEND;TZID=America/New_York:20220707T110000
DTSTAMP:20260423T181032
CREATED:20220216T205551Z
LAST-MODIFIED:20220216T205551Z
UID:1469-1657186200-1657191600@crmsdc.org
SUMMARY:NMSDC Pre-Certification Briefing - July
DESCRIPTION:Learn about the benefits and requirements of National MBE certification through the National Minority Supplier Development Council.\nNote: Event has changed to an interactive video conference until further notice due to coronavirus concerns. Registrants will receive a follow-up email with the link to the Zoom video conference. \nRegister Here
URL:https://crmsdc.org/event/nmsdc-pre-certification-briefing-july/
LOCATION:Virtual
CATEGORIES:Meeting
END:VEVENT
BEGIN:VEVENT
DTSTART;VALUE=DATE:20220704
DTEND;VALUE=DATE:20220705
DTSTAMP:20260423T181032
CREATED:20220316T231400Z
LAST-MODIFIED:20220316T231400Z
UID:1603-1656892800-1656979199@crmsdc.org
SUMMARY:July 4th Observed – CRMSDC Office Closed
DESCRIPTION:
URL:https://crmsdc.org/event/july-4th-observed-crmsdc-office-closed/
END:VEVENT
BEGIN:VEVENT
DTSTART;TZID=America/New_York:20220701T080000
DTEND;TZID=America/New_York:20220701T090000
DTSTAMP:20260423T181032
CREATED:20220316T225238Z
LAST-MODIFIED:20220316T225238Z
UID:1589-1656662400-1656666000@crmsdc.org
SUMMARY:Elevate MBE CEO Peer Group
DESCRIPTION:Mission: Increase MBE-to-MBE Collaboration\nThe Elevate MBE CEO Peer Group on Microsoft Teams gives MBEs a place to network\, brainstorm\, and partner with peers. Join the group to schedule time on the calendar to work on your business and find/give help. \nEvery First Friday! \nEmail latoya.moore@crmsdc.org for details. \nSign Up to Receive Updates
URL:https://crmsdc.org/event/elevate-mbe-ceo-peer-group-5/
LOCATION:Virtual
CATEGORIES:Meeting
END:VEVENT
BEGIN:VEVENT
DTSTART;TZID=America/New_York:20220630T130000
DTEND;TZID=America/New_York:20220630T140000
DTSTAMP:20260423T181032
CREATED:20220628T194253Z
LAST-MODIFIED:20230322T235143Z
UID:1757-1656594000-1656597600@crmsdc.org
SUMMARY:HotChat Featuring Reverend Dr. Douglas B. Sands\, Sr.
DESCRIPTION:Grab Your Lunch and Join Us for a Midday Master Class\n \nThis month\, as we honor Juneteenth\, we are speaking with tireless activists and public servants. Each who have made meaningful contributions to federal\, state and local legislation that has shaped history for minority-owned business. \nOur guest this week is Reverend Dr. Douglas B. Sands\, Sr.\nIn this episode we will discuss:\n\nHow a Vanguard of justice changed the game for Black business owners.\nHow his advocacy laid the foundation for Maryland’s MBE program.\nHis tireless fight for minority businesses.\nThe importance of Juneteenth to the younger generation.\nand so much more.\n\nWATCH ON THURSDAY\, JUNE 30\, 2022 @ 1 pm\nFacebook  |  YouTube
URL:https://crmsdc.org/event/hotchat-featuring-reverend-dr-douglas-b-sands-sr/
LOCATION:Virtual
CATEGORIES:Podcast
ATTACH;FMTTYPE=image/jpeg:https://crmsdc.org/wp-content/uploads/2022/06/S2-Ep15-HotChat-Rev.-Douglas-B.-Sands-Sr_1920.jpg
END:VEVENT
BEGIN:VEVENT
DTSTART;TZID=America/New_York:20220629T090000
DTEND;TZID=America/New_York:20220629T140000
DTSTAMP:20260423T181032
CREATED:20220216T231028Z
LAST-MODIFIED:20220601T135452Z
UID:1487-1656493200-1656511200@crmsdc.org
SUMMARY:Super Matchmaker Conference 2022
DESCRIPTION:Our annual Super Matchmaker Conference allows MBEs exclusive access to the region’s leading corporations\, federal\, state and local government agencies all under one roof!\nJoin us for roundtables with corporate and government partners who will share invaluable information\, insights and opportunities. Plus\, we’ll have hot topic discussions\, exhibit booths and giveaways. Register Now to claim your seat at the virtual table! \n\n\n \n\n  \n\n \nWe’ll also reveal the 2022 Supplier of the Year award winners. Meet the awardees and take advantage of this unique opportunity to network with them and other potential vendors and partners. Don’t miss it! \n 
URL:https://crmsdc.org/event/super-matchmaker-conference-2022/
LOCATION:Virtual
CATEGORIES:Signature Event
ATTACH;FMTTYPE=image/jpeg:https://crmsdc.org/wp-content/uploads/2022/02/Matchmaker-2022-1920-Event-pg-80.jpg
END:VEVENT
BEGIN:VEVENT
DTSTART;TZID=America/New_York:20220603T080000
DTEND;TZID=America/New_York:20220603T090000
DTSTAMP:20260423T181032
CREATED:20220316T224945Z
LAST-MODIFIED:20220316T224945Z
UID:1587-1654243200-1654246800@crmsdc.org
SUMMARY:Elevate MBE CEO Peer Group
DESCRIPTION:Mission: Increase MBE-to-MBE Collaboration\nThe Elevate MBE CEO Peer Group on Microsoft Teams gives MBEs a place to network\, brainstorm\, and partner with peers. Join the group to schedule time on the calendar to work on your business and find/give help. \nEvery First Friday! \nEmail latoya.moore@crmsdc.org for details. \nSign Up to Receive Updates
URL:https://crmsdc.org/event/elevate-mbe-ceo-peer-group-4/
LOCATION:Virtual
CATEGORIES:Meeting
END:VEVENT
BEGIN:VEVENT
DTSTART;TZID=America/New_York:20220602T093000
DTEND;TZID=America/New_York:20220602T110000
DTSTAMP:20260423T181032
CREATED:20220216T205246Z
LAST-MODIFIED:20220216T205605Z
UID:1468-1654162200-1654167600@crmsdc.org
SUMMARY:NMSDC Pre-Certification Briefing - June
DESCRIPTION:Learn about the benefits and requirements of National MBE certification through the National Minority Supplier Development Council.\nNote: Event has changed to an interactive video conference until further notice due to coronavirus concerns. Registrants will receive a follow-up email with the link to the Zoom video conference. \nRegister Here
URL:https://crmsdc.org/event/nmsdc-pre-certification-briefing-june/
LOCATION:Virtual
CATEGORIES:Meeting
END:VEVENT
BEGIN:VEVENT
DTSTART;VALUE=DATE:20220530
DTEND;VALUE=DATE:20220531
DTSTAMP:20260423T181032
CREATED:20220316T231637Z
LAST-MODIFIED:20220316T231637Z
UID:1604-1653868800-1653955199@crmsdc.org
SUMMARY:Memorial Day Observed – CRMSDC Office Closed
DESCRIPTION:
URL:https://crmsdc.org/event/memorial-day-observed-crmsdc-office-closed/
END:VEVENT
BEGIN:VEVENT
DTSTART;TZID=America/New_York:20220526T130000
DTEND;TZID=America/New_York:20220526T140000
DTSTAMP:20260423T181032
CREATED:20220523T151538Z
LAST-MODIFIED:20220523T151538Z
UID:1713-1653570000-1653573600@crmsdc.org
SUMMARY:HotChat Featuring Special Secretary Jimmy Rhee | Governor’s Office of Small\, Minority & Women Business Affairs
DESCRIPTION:Grab Your Lunch and Join Us for a Midday Master Class\n \nMay is Asian American Pacific Islander Heritage Month and we’re celebrating by bringing you valuable information and insightful conversations to help us better understand issues facing the AAPI business community. \nOur guest this week is Special Secretary Jimmy Rhee\, Governor’s Office of Small\, Minority & Women Business Affairs.\nIn this episode we will discuss:\n\nConnecting the small business community to greater economic opportunities.\nWhat MBEs need during the pandemic.\nHow minority business owners can come together and collaborate.\nThe rise in Asian hate crimes over the past few years.\nand so much more.\n\nWATCH ON THURSDAY\, MAY 26\, 2022 @ 1 pm\nFacebook  |  YouTube
URL:https://crmsdc.org/event/hotchat-featuring-special-secretary-jimmy-rhee-governors-office-of-small-minority-women-business-affairs/
LOCATION:Virtual
CATEGORIES:Podcast
END:VEVENT
BEGIN:VEVENT
DTSTART;TZID=America/New_York:20220519T130000
DTEND;TZID=America/New_York:20220519T140000
DTSTAMP:20260423T181032
CREATED:20220517T150644Z
LAST-MODIFIED:20220517T150644Z
UID:1700-1652965200-1652968800@crmsdc.org
SUMMARY:HotChat Featuring Dr. Cindy Shao | Asian American Chamber of Commerce
DESCRIPTION:Grab Your Lunch and Join Us for a Midday Master Class\n \nMay is Asian American Pacific Islander Heritage Month and we’re celebrating by bringing you valuable information and insightful conversations to help us better understand issues facing the AAPI business community. \nOur guest this week is Dr. Cindy Shao\, Founder & President of the Asian American Chamber of Commerce (AACC). \nIn this episode we will discuss:\n\nHow the Chamber navigates through the Pandemic\nThe Chamber’s achievements and challenges\nHow the AACC supports it’s members\nResources for AAPI businesses\n\nand so much more. \nWATCH LIVE ON THURSDAY\, MAY 19\, 2022 @ 1 pm\nFacebook  |  YouTube\n 
URL:https://crmsdc.org/event/hotchat-featuring-dr-cindy-shao-asian-american-chamber-of-commerce/
LOCATION:Virtual
CATEGORIES:Podcast
END:VEVENT
BEGIN:VEVENT
DTSTART;TZID=America/New_York:20220506T080000
DTEND;TZID=America/New_York:20220506T090000
DTSTAMP:20260423T181032
CREATED:20220316T224747Z
LAST-MODIFIED:20220316T224747Z
UID:1586-1651824000-1651827600@crmsdc.org
SUMMARY:Elevate MBE CEO Peer Group
DESCRIPTION:Mission: Increase MBE-to-MBE Collaboration\nThe Elevate MBE CEO Peer Group on Microsoft Teams gives MBEs a place to network\, brainstorm\, and partner with peers. Join the group to schedule time on the calendar to work on your business and find/give help. \nEvery First Friday! \nEmail latoya.moore@crmsdc.org for details. \nSign Up to Receive Updates
URL:https://crmsdc.org/event/elevate-mbe-ceo-peer-group-3/
LOCATION:Virtual
CATEGORIES:Meeting
END:VEVENT
BEGIN:VEVENT
DTSTART;TZID=America/New_York:20220505T093000
DTEND;TZID=America/New_York:20220505T110000
DTSTAMP:20260423T181032
CREATED:20220216T204135Z
LAST-MODIFIED:20220216T204135Z
UID:1467-1651743000-1651748400@crmsdc.org
SUMMARY:NMSDC Pre-Certification Briefing - May
DESCRIPTION:Learn about the benefits and requirements of National MBE certification through the National Minority Supplier Development Council.\nNote: Event has changed to an interactive video conference until further notice due to coronavirus concerns. Registrants will receive a follow-up email with the link to the Zoom video conference. \nRegister Here
URL:https://crmsdc.org/event/nmsdc-pre-certification-briefing-may/
LOCATION:Virtual
CATEGORIES:Meeting
END:VEVENT
BEGIN:VEVENT
DTSTART;TZID=America/New_York:20220428T130000
DTEND;TZID=America/New_York:20220428T140000
DTSTAMP:20260423T181032
CREATED:20220426T033952Z
LAST-MODIFIED:20220426T170428Z
UID:1681-1651150800-1651154400@crmsdc.org
SUMMARY:HOTCHAT Featuring Celandra Deane-Bess\, CFP | PNC Private Bank
DESCRIPTION:Grab Your Lunch and Join Us for a Midday Master Class\n \nCelandra Deane-Bess\, CFP is the Senior Vice President and Capital Area Market Leader for PNC Private Bank. She oversees a team of professionals striving to achieve the highest level of client satisfaction. Through Celandra’s leadership and commitment\, she helps ensure that the client benefits from a full complement of investment\, trust\, financial planning\, and private banking services to help them achieve their financial goals. \nIn this episode we will discuss:\n\nCelandra’s journey into banking.\nThe importance of financial literacy & generational wealth.\nResources & tools PNC Bank offers small businesses to help achieve their goals.\nIssues MBEs have been struggling with since the onset of the pandemic.\n\nand so much more… \nWATCH LIVE ON THURSDAY\, APRIL 28\, 2022 @ 1 pm\nFacebook  |  YouTube
URL:https://crmsdc.org/event/hotchat-featuring-celandra-deane-bess/
LOCATION:Virtual
CATEGORIES:Podcast
END:VEVENT
END:VCALENDAR