BEGIN:VCALENDAR
VERSION:2.0
PRODID:-//Capital Region Minority Supplier Development Council | CRMSDC - ECPv6.6.4.2//NONSGML v1.0//EN
CALSCALE:GREGORIAN
METHOD:PUBLISH
X-ORIGINAL-URL:https://crmsdc.org
X-WR-CALDESC:Events for Capital Region Minority Supplier Development Council | CRMSDC
REFRESH-INTERVAL;VALUE=DURATION:PT1H
X-Robots-Tag:noindex
X-PUBLISHED-TTL:PT1H
BEGIN:VTIMEZONE
TZID:America/New_York
BEGIN:DAYLIGHT
TZOFFSETFROM:-0500
TZOFFSETTO:-0400
TZNAME:EDT
DTSTART:20260308T070000
END:DAYLIGHT
BEGIN:STANDARD
TZOFFSETFROM:-0400
TZOFFSETTO:-0500
TZNAME:EST
DTSTART:20261101T060000
END:STANDARD
END:VTIMEZONE
BEGIN:VEVENT
DTSTART;TZID=America/New_York:20260423T100000
DTEND;TZID=America/New_York:20260423T130000
DTSTAMP:20260423T064510
CREATED:20260303T171703Z
LAST-MODIFIED:20260422T222831Z
UID:2975-1776938400-1776949200@crmsdc.org
SUMMARY:Annual MBEIC Breakfast – Standing Strong
DESCRIPTION:SOLD OUT! \nThe Capital Region Minority Supplier Development Council (CRMSDC) announces its highly anticipated 2026 Annual Breakfast\, taking place Thursday\, April 23\, 2026\, in Tysons Corner\, Virginia. \nThis year’s powerful theme\, Standing Strong: Steady. Certain. Forward.\, sets the tone for a morning of inspiration\, resilience and forward-thinking leadership as business executives\, entrepreneurs and community leaders gather to celebrate progress and possibility across the region. \nThe Annual Breakfast serves as one of CRMSDC’s signature events\, uniting corporate partners\, minority business enterprises (MBEs) and influential stakeholders committed to economic growth. \nFEATURED HIGHLIGHTS \nMaster of Ceremonies\nThe event will be expertly guided by Katie Barlow\, esteemed journalist with Fox 5 DC\, known for her insightful reporting and dynamic presence. \nKeynote Speaker\nCRMSDC is honored to welcome Don Cravins\, Jr.\, newly appointed President & CEO of the National Minority Supplier Development Council (NMSDC). As a nationally recognized advocate for minority business advancement\, Don Cravins brings a compelling voice on innovation\, access to opportunity and the future of supplier diversity. His keynote is expected to deliver both inspiration and strategic insight at a time when businesses are redefining resilience and growth. \nAttendees can expect to receive: \n• Business insights\n• AI intelligence best practices\n• Global expansion guidance\n• Mental wellness strategies\n• Opportunities to connect with influential decision-makers \n“Standing Strong” is not just about endurance\, it’s about moving forward with certainty\, vision\, and unwavering commitment to progress. \n——– \nEvent: 2026 CRMSDC MBEIC Annual Breakfast\nDate: Thursday\, April 23\, 2026\, 10:00am – 1:00pm\nLocation: 1850 Towers Crescent Plaza\, Tysons Corner\, Virginia 22182
URL:https://crmsdc.org/event/mbeic-annual-breakfast-standing-strong/
LOCATION:MicroStrategy\, 1850 Towers Crescent Plaza\, Tysons Corner\, VA\, 22182\, United States
CATEGORIES:Event
END:VEVENT
BEGIN:VEVENT
DTSTART;TZID=America/New_York:20260430T130000
DTEND;TZID=America/New_York:20260430T150000
DTSTAMP:20260423T064510
CREATED:20260421T191719Z
LAST-MODIFIED:20260421T191719Z
UID:3001-1777554000-1777561200@crmsdc.org
SUMMARY:AI As Business Infrastructure: Your Al Orientation
DESCRIPTION: 
URL:https://crmsdc.org/event/ai-as-business-infrastructure-your-al-orientation/
LOCATION:Virtual
CATEGORIES:Webinar
END:VEVENT
BEGIN:VEVENT
DTSTART;TZID=America/New_York:20260604T090000
DTEND;TZID=America/New_York:20260604T150000
DTSTAMP:20260423T064510
CREATED:20260421T201633Z
LAST-MODIFIED:20260422T223131Z
UID:3007-1780563600-1780585200@crmsdc.org
SUMMARY:Baltimore City Small Business Advancement Conference
DESCRIPTION:REGISTER NOW
URL:https://crmsdc.org/event/baltimore-city-small-business-advancement-conference/
LOCATION:Baltimore Convention Center\, 1 W. Pratt Street\, Baltimore\, Maryland\, 21201
CATEGORIES:Signature Event
END:VEVENT
BEGIN:VEVENT
DTSTART;TZID=America/New_York:20260914T073000
DTEND;TZID=America/New_York:20260914T160000
DTSTAMP:20260423T064510
CREATED:20260421T192224Z
LAST-MODIFIED:20260421T195006Z
UID:3003-1789371000-1789401600@crmsdc.org
SUMMARY:Annual Business Golf Classic
DESCRIPTION:
URL:https://crmsdc.org/event/annual-business-golf-classic-3/
LOCATION:The Country Club at Woodmore\, 12320 Pleasant Prospect\, Mitchellville\, MD\, 20721\, United States
CATEGORIES:Signature Event
END:VEVENT
BEGIN:VEVENT
DTSTART;TZID=America/New_York:20261203T090000
DTEND;TZID=America/New_York:20261203T140000
DTSTAMP:20260423T064510
CREATED:20260421T200125Z
LAST-MODIFIED:20260421T200125Z
UID:3005-1796288400-1796306400@crmsdc.org
SUMMARY:CRMSDC Annual Business Meeting
DESCRIPTION:
URL:https://crmsdc.org/event/crmsdc-annual-business-meeting/
LOCATION:Maryland
CATEGORIES:Signature Event
END:VEVENT
END:VCALENDAR