BEGIN:VCALENDAR
VERSION:2.0
PRODID:-//Capital Region Minority Supplier Development Council | CRMSDC - ECPv6.6.4.2//NONSGML v1.0//EN
CALSCALE:GREGORIAN
METHOD:PUBLISH
X-ORIGINAL-URL:https://crmsdc.org
X-WR-CALDESC:Events for Capital Region Minority Supplier Development Council | CRMSDC
REFRESH-INTERVAL;VALUE=DURATION:PT1H
X-Robots-Tag:noindex
X-PUBLISHED-TTL:PT1H
BEGIN:VTIMEZONE
TZID:America/New_York
BEGIN:DAYLIGHT
TZOFFSETFROM:-0500
TZOFFSETTO:-0400
TZNAME:EDT
DTSTART:20250309T070000
END:DAYLIGHT
BEGIN:STANDARD
TZOFFSETFROM:-0400
TZOFFSETTO:-0500
TZNAME:EST
DTSTART:20251102T060000
END:STANDARD
END:VTIMEZONE
BEGIN:VEVENT
DTSTART;TZID=America/New_York:20250612T090000
DTEND;TZID=America/New_York:20250612T150000
DTSTAMP:20260421T080831
CREATED:20250513T134617Z
LAST-MODIFIED:20250520T140712Z
UID:2821-1749718800-1749740400@crmsdc.org
SUMMARY:Baltimore City Small Business Advancement Conference Featuring CRMSDC Corporate Roundtable Sessions
DESCRIPTION:
URL:https://crmsdc.org/event/baltimore-city-small-business-advancement-conference-featuring-crmsdc-corporate-roundtable-sessions/
LOCATION:Baltimore Convention Center\, 1 W. Pratt Street\, Baltimore\, Maryland\, 21201
CATEGORIES:Event
END:VEVENT
END:VCALENDAR