BEGIN:VCALENDAR
VERSION:2.0
PRODID:-//Capital Region Minority Supplier Development Council | CRMSDC - ECPv6.6.4.2//NONSGML v1.0//EN
CALSCALE:GREGORIAN
METHOD:PUBLISH
X-ORIGINAL-URL:https://crmsdc.org
X-WR-CALDESC:Events for Capital Region Minority Supplier Development Council | CRMSDC
REFRESH-INTERVAL;VALUE=DURATION:PT1H
X-Robots-Tag:noindex
X-PUBLISHED-TTL:PT1H
BEGIN:VTIMEZONE
TZID:America/New_York
BEGIN:DAYLIGHT
TZOFFSETFROM:-0500
TZOFFSETTO:-0400
TZNAME:EDT
DTSTART:20250309T070000
END:DAYLIGHT
BEGIN:STANDARD
TZOFFSETFROM:-0400
TZOFFSETTO:-0500
TZNAME:EST
DTSTART:20251102T060000
END:STANDARD
END:VTIMEZONE
BEGIN:VEVENT
DTSTART;TZID=America/New_York:20251023T130000
DTEND;TZID=America/New_York:20251023T141500
DTSTAMP:20260420T120530
CREATED:20250924T164454Z
LAST-MODIFIED:20250924T164454Z
UID:2888-1761224400-1761228900@crmsdc.org
SUMMARY:Baltimore City Opportunities & Resources for Small Businesses
DESCRIPTION:
URL:https://crmsdc.org/event/baltimore-city-opportunities-resources-for-small-businesses/
LOCATION:Virtual
CATEGORIES:Webinar
END:VEVENT
END:VCALENDAR