BEGIN:VCALENDAR
VERSION:2.0
PRODID:-//Capital Region Minority Supplier Development Council | CRMSDC - ECPv6.6.4.2//NONSGML v1.0//EN
CALSCALE:GREGORIAN
METHOD:PUBLISH
X-ORIGINAL-URL:https://crmsdc.org
X-WR-CALDESC:Events for Capital Region Minority Supplier Development Council | CRMSDC
REFRESH-INTERVAL;VALUE=DURATION:PT1H
X-Robots-Tag:noindex
X-PUBLISHED-TTL:PT1H
BEGIN:VTIMEZONE
TZID:America/New_York
BEGIN:DAYLIGHT
TZOFFSETFROM:-0500
TZOFFSETTO:-0400
TZNAME:EDT
DTSTART:20250309T070000
END:DAYLIGHT
BEGIN:STANDARD
TZOFFSETFROM:-0400
TZOFFSETTO:-0500
TZNAME:EST
DTSTART:20251102T060000
END:STANDARD
END:VTIMEZONE
BEGIN:VEVENT
DTSTART;VALUE=DATE:20250923
DTEND;VALUE=DATE:20250924
DTSTAMP:20260422T065313
CREATED:20250918T140312Z
LAST-MODIFIED:20250918T140347Z
UID:2885-1758585600-1758671999@crmsdc.org
SUMMARY:Day on the Hill 2025
DESCRIPTION:
URL:https://crmsdc.org/event/day-on-the-hill-2025/
LOCATION:Maryland
CATEGORIES:Event
END:VEVENT
END:VCALENDAR