BEGIN:VCALENDAR
VERSION:2.0
PRODID:-//Capital Region Minority Supplier Development Council | CRMSDC - ECPv6.6.4.2//NONSGML v1.0//EN
CALSCALE:GREGORIAN
METHOD:PUBLISH
X-ORIGINAL-URL:https://crmsdc.org
X-WR-CALDESC:Events for Capital Region Minority Supplier Development Council | CRMSDC
REFRESH-INTERVAL;VALUE=DURATION:PT1H
X-Robots-Tag:noindex
X-PUBLISHED-TTL:PT1H
BEGIN:VTIMEZONE
TZID:America/New_York
BEGIN:DAYLIGHT
TZOFFSETFROM:-0500
TZOFFSETTO:-0400
TZNAME:EDT
DTSTART:20250309T070000
END:DAYLIGHT
BEGIN:STANDARD
TZOFFSETFROM:-0400
TZOFFSETTO:-0500
TZNAME:EST
DTSTART:20251102T060000
END:STANDARD
END:VTIMEZONE
BEGIN:VEVENT
DTSTART;TZID=America/New_York:20250915T073000
DTEND;TZID=America/New_York:20250915T163000
DTSTAMP:20260424T064355
CREATED:20250513T142841Z
LAST-MODIFIED:20250805T032456Z
UID:2825-1757921400-1757953800@crmsdc.org
SUMMARY:Annual Business Golf Classic
DESCRIPTION:
URL:https://crmsdc.org/event/annual-business-golf-classic-2/
LOCATION:The Country Club at Woodmore\, 12320 Pleasant Prospect\, Mitchellville\, MD\, 20721\, United States
CATEGORIES:Event
END:VEVENT
END:VCALENDAR